3.85568e-006
0.0
0.0
-2.13382e-006
85.03995431806882
56.48255486102384
